BEGIN:VCALENDAR
PRODID:-//Hannon Hill Events//Cascade CMS//EN
VERSION:2.0
X-WR-CALNAME:Creative Arts Contest Awards Ceremony 2026
X-WR-TIMEZONE:America/New_York
BEGIN:VTIMEZONE
TZID:America/New_York
BEGIN:DAYLIGHT
TZOFFSETFROM:-0500
TZOFFSETTO:-0400
TZNAME:EDT
DTSTART:19700308T020000
RRULE:FREQ=YEARLY;BYMONTH=3;BYDAY=2SU
END:DAYLIGHT
BEGIN:STANDARD
TZOFFSETFROM:-0400
TZOFFSETTO:-0500
TZNAME:EST
DTSTART:19701101T020000
RRULE:FREQ=YEARLY;BYMONTH=11;BYDAY=1SU
END:STANDARD
END:VTIMEZONE
BEGIN:VEVENT
DTSTART:20260423T180000
DTEND:20260423T203000
DTSTAMP:20260421T210604
UID:71c39afb0a022103029975f4ff782cf7
CREATED:20260218T111930
DESCRIPTION:Southwest Texas College (SWTX) is thrilled to announce the com
 mencement of the annual Creative Arts Contest\, inviting artists of all ag
 es to showcase their talents and compete for cash prizes and medals. Event
  details...
LAST-MODIFIED:20260421T210550
SEQUENCE:0
STATUS:CONFIRMED
SUMMARY:Creative Arts Contest Awards Ceremony 2026
TRANSP:OPAQUE
END:VEVENT
END:VCALENDAR
