BEGIN:VCALENDAR
PRODID:-//Hannon Hill Events//Cascade CMS//EN
VERSION:2.0
X-WR-CALNAME:Lego Your Stress
X-WR-TIMEZONE:America/New_York
BEGIN:VTIMEZONE
TZID:America/New_York
BEGIN:DAYLIGHT
TZOFFSETFROM:-0500
TZOFFSETTO:-0400
TZNAME:EDT
DTSTART:19700308T020000
RRULE:FREQ=YEARLY;BYMONTH=3;BYDAY=2SU
END:DAYLIGHT
BEGIN:STANDARD
TZOFFSETFROM:-0400
TZOFFSETTO:-0500
TZNAME:EST
DTSTART:19701101T020000
RRULE:FREQ=YEARLY;BYMONTH=11;BYDAY=1SU
END:STANDARD
END:VTIMEZONE
BEGIN:VEVENT
DTSTART:20260421T110000
DTEND:20260421T130000
DTSTAMP:20260420T134205
UID:739bbd9d0a022103029975f4e353ea97
CREATED:20260409T135759
DESCRIPTION:Feeling stressed? Come relax\, reset\, and build something fun
  with us! Event details...
LAST-MODIFIED:20260409T135759
SEQUENCE:0
STATUS:CONFIRMED
SUMMARY:Lego Your Stress
TRANSP:OPAQUE
END:VEVENT
END:VCALENDAR
