BEGIN:VCALENDAR
PRODID:-//Hannon Hill Events//Cascade CMS//EN
VERSION:2.0
X-WR-CALNAME:National Library Week - Crystal City
X-WR-TIMEZONE:America/New_York
BEGIN:VTIMEZONE
TZID:America/New_York
BEGIN:DAYLIGHT
TZOFFSETFROM:-0500
TZOFFSETTO:-0400
TZNAME:EDT
DTSTART:19700308T020000
RRULE:FREQ=YEARLY;BYMONTH=3;BYDAY=2SU
END:DAYLIGHT
BEGIN:STANDARD
TZOFFSETFROM:-0400
TZOFFSETTO:-0500
TZNAME:EST
DTSTART:19701101T020000
RRULE:FREQ=YEARLY;BYMONTH=11;BYDAY=1SU
END:STANDARD
END:VTIMEZONE
BEGIN:VEVENT
DTSTART:20260420T110000
DTEND:20260424T130000
DTSTAMP:20260420T134156
UID:8da7a28a0a022103029975f44a27792c
CREATED:20260414T152106
DESCRIPTION:Crystal City - Celebrate National Library Week! Event details.
 ..
LAST-MODIFIED:20260414T164745
SEQUENCE:0
STATUS:CONFIRMED
SUMMARY:National Library Week - Crystal City
TRANSP:OPAQUE
END:VEVENT
END:VCALENDAR
