BEGIN:VCALENDAR
PRODID:-//Hannon Hill Events//Cascade CMS//EN
VERSION:2.0
X-WR-CALNAME:New Student Orientation - Eagle Pass
X-WR-TIMEZONE:America/New_York
BEGIN:VTIMEZONE
TZID:America/New_York
BEGIN:DAYLIGHT
TZOFFSETFROM:-0500
TZOFFSETTO:-0400
TZNAME:EDT
DTSTART:19700308T020000
RRULE:FREQ=YEARLY;BYMONTH=3;BYDAY=2SU
END:DAYLIGHT
BEGIN:STANDARD
TZOFFSETFROM:-0400
TZOFFSETTO:-0500
TZNAME:EST
DTSTART:19701101T020000
RRULE:FREQ=YEARLY;BYMONTH=11;BYDAY=1SU
END:STANDARD
END:VTIMEZONE
BEGIN:VEVENT
DTSTART:20260424T083000
DTEND:20260424T120000
DTSTAMP:20260422T161918
UID:b70f1a020a022103029975f4a9c424f1
CREATED:20260422T161833
DESCRIPTION:We&#8217\;re&#160\;thrilled to welcome our&#160\;newest SWTX s
 tudents! Event details...
LAST-MODIFIED:20260422T161909
SEQUENCE:0
STATUS:CONFIRMED
SUMMARY:New Student Orientation - Eagle Pass
TRANSP:OPAQUE
END:VEVENT
END:VCALENDAR
