BEGIN:VCALENDAR
PRODID:-//Hannon Hill Events//Cascade CMS//EN
VERSION:2.0
X-WR-CALNAME:Outsmart the Scam Seminar
X-WR-TIMEZONE:America/New_York
BEGIN:VTIMEZONE
TZID:America/New_York
BEGIN:DAYLIGHT
TZOFFSETFROM:-0500
TZOFFSETTO:-0400
TZNAME:EDT
DTSTART:19700308T020000
RRULE:FREQ=YEARLY;BYMONTH=3;BYDAY=2SU
END:DAYLIGHT
BEGIN:STANDARD
TZOFFSETFROM:-0400
TZOFFSETTO:-0500
TZNAME:EST
DTSTART:19701101T020000
RRULE:FREQ=YEARLY;BYMONTH=11;BYDAY=1SU
END:STANDARD
END:VTIMEZONE
BEGIN:VEVENT
DTSTART:20260422T120000
DTEND:20260422T130000
DTSTAMP:20260421T135428
UID:746e3de80a022103029975f45777ccb5
CREATED:20260409T174755
DESCRIPTION:Think you&apos\;d spot a scam? Learn how fraud really works. E
 vent details...
LAST-MODIFIED:20260421T135345
SEQUENCE:0
STATUS:CONFIRMED
SUMMARY:Outsmart the Scam Seminar
TRANSP:OPAQUE
END:VEVENT
END:VCALENDAR
