BEGIN:VCALENDAR
PRODID:-//Hannon Hill Events//Cascade CMS//EN
VERSION:2.0
X-WR-CALNAME:TAMUK TALKS Getting to Know Your Counselor
X-WR-TIMEZONE:America/New_York
BEGIN:VTIMEZONE
TZID:America/New_York
BEGIN:DAYLIGHT
TZOFFSETFROM:-0500
TZOFFSETTO:-0400
TZNAME:EDT
DTSTART:19700308T020000
RRULE:FREQ=YEARLY;BYMONTH=3;BYDAY=2SU
END:DAYLIGHT
BEGIN:STANDARD
TZOFFSETFROM:-0400
TZOFFSETTO:-0500
TZNAME:EST
DTSTART:19701101T020000
RRULE:FREQ=YEARLY;BYMONTH=11;BYDAY=1SU
END:STANDARD
END:VTIMEZONE
BEGIN:VEVENT
DTSTART:20260421T140000
DTEND:20260421T150000
DTSTAMP:20260420T134208
UID:fcf86a670a022103029975f4d6760f77
CREATED:20260317T130424
DESCRIPTION:Uvalde! Want a face to the name of your Texas A&amp\;M Univers
 ity-Kingsville Representative? Event details...
LAST-MODIFIED:20260408T105607
SEQUENCE:0
STATUS:CONFIRMED
SUMMARY:TAMUK TALKS Getting to Know Your Counselor
TRANSP:OPAQUE
END:VEVENT
END:VCALENDAR
