BEGIN:VCALENDAR
PRODID:-//Hannon Hill Events//Cascade CMS//EN
VERSION:2.0
X-WR-CALNAME:Current - All upcoming events plus events from the previous m
 onth.
X-WR-TIMEZONE:America/New_York
BEGIN:VTIMEZONE
TZID:America/New_York
BEGIN:DAYLIGHT
TZOFFSETFROM:-0500
TZOFFSETTO:-0400
TZNAME:EDT
DTSTART:19700308T020000
RRULE:FREQ=YEARLY;BYMONTH=3;BYDAY=2SU
END:DAYLIGHT
BEGIN:STANDARD
TZOFFSETFROM:-0400
TZOFFSETTO:-0500
TZNAME:EST
DTSTART:19701101T020000
RRULE:FREQ=YEARLY;BYMONTH=11;BYDAY=1SU
END:STANDARD
END:VTIMEZONE
BEGIN:VEVENT
DTSTART:20260424T083000
DTEND:20260424T120000
DTSTAMP:20260423T050003
UID:b70f1a020a022103029975f4a9c424f1
DESCRIPTION:We\u2019re\u00A0thrilled to welcome our\u00A0newest SWTX stude
 nts! Event details...
SEQUENCE:0
STATUS:CONFIRMED
SUMMARY:New Student Orientation - Eagle Pass
TRANSP:OPAQUE
END:VEVENT
BEGIN:VEVENT
DTSTART:20260424T083000
DTEND:20260424T120000
DTSTAMP:20260423T050003
UID:b70d386a0a022103029975f44d65b513
DESCRIPTION:We\u2019re\u00A0thrilled to welcome our\u00A0newest SWTX stude
 nts! Event details...
SEQUENCE:0
STATUS:CONFIRMED
SUMMARY:New Student Orientation - Uvalde
TRANSP:OPAQUE
END:VEVENT
BEGIN:VEVENT
DTSTART:20260424T090000
DTEND:20260424T120000
DTSTAMP:20260423T050003
UID:b70c5c350a022103029975f46f8ac58b
DESCRIPTION:We\u2019re\u00A0thrilled to welcome our\u00A0newest SWTX stude
 nts! Event details...
SEQUENCE:0
STATUS:CONFIRMED
SUMMARY:New Student Orientation - Pearsall
TRANSP:OPAQUE
END:VEVENT
BEGIN:VEVENT
DTSTART:20260427T173000
DTEND:20260427T190000
DTSTAMP:20260423T050003
UID:b7029f300a022103029975f402389436
DESCRIPTION:We\u2019re\u00A0thrilled to welcome our\u00A0newest SWTX stude
 nts! Event details...
SEQUENCE:0
STATUS:CONFIRMED
SUMMARY:New Student Orientation - Hondo
TRANSP:OPAQUE
END:VEVENT
BEGIN:VEVENT
DTSTART:20260422T170000
DTEND:20260422T180000
DTSTAMP:20260423T050003
UID:b6da5b970a022103029975f4f605d3e6
DESCRIPTION:Thinking about transferring\, but worried about the cost? Even
 t details...
SEQUENCE:0
STATUS:CONFIRMED
SUMMARY:Affording Transfer - Plan Your Next Step with Confidence
TRANSP:OPAQUE
END:VEVENT
BEGIN:VEVENT
DTSTART:20260424T083000
DTEND:20260424T120000
DTSTAMP:20260423T050003
UID:b5e17ecb0a022103029975f481288555
DESCRIPTION:We\u2019re\u00A0thrilled to welcome our\u00A0newest SWTX stude
 nts! Event details...
SEQUENCE:0
STATUS:CONFIRMED
SUMMARY:New Student Orientation - Del Rio
TRANSP:OPAQUE
END:VEVENT
BEGIN:VEVENT
DTSTART:20260424T083000
DTEND:20260424T120000
DTSTAMP:20260423T050003
UID:b5deb70b0a022103029975f45e5d59d2
DESCRIPTION:We\u2019re\u00A0thrilled to welcome our\u00A0newest SWTX stude
 nts! Event details...
SEQUENCE:0
STATUS:CONFIRMED
SUMMARY:New Student Orientation - Crystal City
TRANSP:OPAQUE
END:VEVENT
BEGIN:VEVENT
DTSTART:20260806T120000
DTEND:20260806T160000
DTSTAMP:20260423T050003
UID:b57bca7a0a022103029975f453c1b888
DESCRIPTION:Stay on track and take care of your health! Event details...
SEQUENCE:0
STATUS:CONFIRMED
SUMMARY:Uvalde Vaccine Drive August 2026
TRANSP:OPAQUE
END:VEVENT
BEGIN:VEVENT
DTSTART:20260422T110000
DTEND:20260423T150000
DTSTAMP:20260423T050003
UID:acb8e1a40a022103029975f4a003de52
DESCRIPTION:Relax\, refresh\, and play some board games before finals. Eve
 nt details...
SEQUENCE:0
STATUS:CONFIRMED
SUMMARY:Final Exams De-Stresser Board Games
TRANSP:OPAQUE
END:VEVENT
BEGIN:VEVENT
DTSTART:20260423T180000
DTEND:20260423T203000
DTSTAMP:20260423T050003
UID:71c39afb0a022103029975f4ff782cf7
DESCRIPTION:Southwest Texas College (SWTX) is thrilled to announce the com
 mencement of the annual Creative Arts Contest\, inviting artists of all ag
 es to showcase their talents and compete for cash prizes and medals. Event
  details...
SEQUENCE:0
STATUS:CONFIRMED
SUMMARY:Creative Arts Contest Awards Ceremony 2026
TRANSP:OPAQUE
END:VEVENT
BEGIN:VEVENT
DTSTART:20260702T120000
DTEND:20260702T160000
DTSTAMP:20260423T050003
UID:b209d1980a022103029975f4e3b91153
DESCRIPTION:Stay on track and take care of your health! Event details...
SEQUENCE:0
STATUS:CONFIRMED
SUMMARY:Uvalde Vaccine Drive July 2026
TRANSP:OPAQUE
END:VEVENT
BEGIN:VEVENT
DTSTART:20260604T120000
DTEND:20260604T160000
DTSTAMP:20260423T050003
UID:b20721910a022103029975f432b7c209
DESCRIPTION:Stay on track and take care of your health! Event details...
SEQUENCE:0
STATUS:CONFIRMED
SUMMARY:Uvalde Vaccine Drive June 2026
TRANSP:OPAQUE
END:VEVENT
BEGIN:VEVENT
DTSTART:20260422T120000
DTEND:20260422T130000
DTSTAMP:20260423T050003
UID:746e3de80a022103029975f45777ccb5
DESCRIPTION:Think you'd spot a scam? Learn how fraud really works. Event d
 etails...
SEQUENCE:0
STATUS:CONFIRMED
SUMMARY:Outsmart the Scam Seminar
TRANSP:OPAQUE
END:VEVENT
BEGIN:VEVENT
DTSTART:20260430T120000
DTEND:20260430T130000
DTSTAMP:20260423T050003
UID:88a2d3490a022103029975f4e1d11dc7
DESCRIPTION:Ready to level up your career? Event details...
SEQUENCE:0
STATUS:CONFIRMED
SUMMARY:Resume Building Workshop
TRANSP:OPAQUE
END:VEVENT
BEGIN:VEVENT
DTSTART:20260506T180000
DTEND:20260506T190000
DTSTAMP:20260423T050003
UID:b0d56cad0a022103029975f449163344
DESCRIPTION:Save the Date: Graduation Mass. Event details...
SEQUENCE:0
STATUS:CONFIRMED
SUMMARY:Graduation Mass
TRANSP:OPAQUE
END:VEVENT
BEGIN:VEVENT
DTSTART:20260430T000000
DTEND:20260430T000000
DTSTAMP:20260423T050003
UID:ac70a4f10a022103029975f4af3421ed
DESCRIPTION:Put your grilling or baking skills to the test at the Grillin\
 u2019 & Chillin' with the VP\u00A0Wing\u00A0Cook-Off\, Dessert Contest\, a
 nd Best Beans on\u00A0April 30th! Event details...
SEQUENCE:0
STATUS:CONFIRMED
SUMMARY:Grillin' & Chillin' with the VP Wing Cook-Off
TRANSP:OPAQUE
END:VEVENT
BEGIN:VEVENT
DTSTART:20260429T180000
DTEND:20260429T190000
DTSTAMP:20260423T050003
UID:9820d69a0a022103029975f44e3e2321
DESCRIPTION:Join our Dental Assistant Program Information Session to learn
  more about our upcoming training course. Event details...
SEQUENCE:0
STATUS:CONFIRMED
SUMMARY:Dental Assistant Program Information Session
TRANSP:OPAQUE
END:VEVENT
BEGIN:VEVENT
DTSTART:20260428T100000
DTEND:20260428T130000
DTSTAMP:20260423T050003
UID:932c738d0a022103029975f49f77d806
DESCRIPTION:Who said Halloween only comes once a year? Event details...
SEQUENCE:0
STATUS:CONFIRMED
SUMMARY:Finals Summerween
TRANSP:OPAQUE
END:VEVENT
BEGIN:VEVENT
DTSTART:20260416T180000
DTEND:20260416T210000
DTSTAMP:20260423T050003
UID:9147a5180a022103029975f4d5fab2d3
DESCRIPTION:Stay connected to what\u2019s happening at SWTX by tuning in t
 o the Board of Trustees Meeting livestream on Thursday\, April 16th\, from
  the Bluebonnet Board Room on the Uvalde campus. Event details...
SEQUENCE:0
STATUS:CONFIRMED
SUMMARY:Board of Trustees Meeting - April 2026
TRANSP:OPAQUE
END:VEVENT
BEGIN:VEVENT
DTSTART:20260420T080000
DTEND:20260423T170000
DTSTAMP:20260423T050003
UID:69d6c87f0a022103029975f49c755541
DESCRIPTION:Del Rio - Celebrate National Library Week! Event details...
SEQUENCE:0
STATUS:CONFIRMED
SUMMARY:National Library Week - Del Rio
TRANSP:OPAQUE
END:VEVENT
BEGIN:VEVENT
DTSTART:20260420T110000
DTEND:20260424T130000
DTSTAMP:20260423T050003
UID:45b8a6c80a022103029975f4f895c05b
DESCRIPTION:Eagle Pass - Celebrate National Library Week! Event details...
SEQUENCE:0
STATUS:CONFIRMED
SUMMARY:National Library Week - Eagle Pass
TRANSP:OPAQUE
END:VEVENT
BEGIN:VEVENT
DTSTART:20260420T110000
DTEND:20260424T130000
DTSTAMP:20260423T050003
UID:8da7a28a0a022103029975f44a27792c
DESCRIPTION:Crystal City - Celebrate National Library Week! Event details.
 ..
SEQUENCE:0
STATUS:CONFIRMED
SUMMARY:National Library Week - Crystal City
TRANSP:OPAQUE
END:VEVENT
BEGIN:VEVENT
DTSTART:20260416T150000
DTEND:20260416T160000
DTSTAMP:20260423T050003
UID:884033390a022103029975f4ba5f9c6c
DESCRIPTION:Navigate Databases Like a Pro. Event details...
SEQUENCE:0
STATUS:CONFIRMED
SUMMARY:Library Workshop: Navigating Databases and MLA
TRANSP:OPAQUE
END:VEVENT
BEGIN:VEVENT
DTSTART:20260414T170000
DTEND:20260414T190000
DTSTAMP:20260423T050003
UID:4a842ff20a022103029975f463f23923
DESCRIPTION:Explore how planting supports mental health by promoting mindf
 ulness\, lowering stress levels\, and creating a sense of calm. Event deta
 ils...
SEQUENCE:0
STATUS:CONFIRMED
SUMMARY:Stress Less\, Grow More Planting Session
TRANSP:OPAQUE
END:VEVENT
BEGIN:VEVENT
DTSTART:20260421T110000
DTEND:20260421T130000
DTSTAMP:20260423T050003
UID:739bbd9d0a022103029975f4e353ea97
DESCRIPTION:Feeling stressed? Come relax\, reset\, and build something fun
  with us! Event details...
SEQUENCE:0
STATUS:CONFIRMED
SUMMARY:Lego Your Stress
TRANSP:OPAQUE
END:VEVENT
BEGIN:VEVENT
DTSTART:20260411T180000
DTEND:20260411T230000
DTSTAMP:20260423T050003
UID:3f9f1df80a022103029975f49315685d
DESCRIPTION:The SWTX Friends and Alumni Network is excited to announce the
  2026 President's Gala on Saturday\, April 11\, 2026\, at the Uvalde Count
 y Fairplex. Event details...
SEQUENCE:0
STATUS:CONFIRMED
SUMMARY:Rhinestones & Rodeo President's Gala
TRANSP:OPAQUE
END:VEVENT
BEGIN:VEVENT
DTSTART:20260420T110000
DTEND:20260420T120000
DTSTAMP:20260423T050003
UID:6dbdc3630a022103029975f41f75068b
DESCRIPTION:Eagle Pass! Want a face to the name of your Texas A&M Universi
 ty-Kingsville Representative? Event details...
SEQUENCE:0
STATUS:CONFIRMED
SUMMARY:TAMUK TALKS Getting to Know Your Counselor
TRANSP:OPAQUE
END:VEVENT
BEGIN:VEVENT
DTSTART:20260421T140000
DTEND:20260421T150000
DTSTAMP:20260423T050003
UID:fcf86a670a022103029975f4d6760f77
DESCRIPTION:Uvalde! Want a face to the name of your Texas A&M University-K
 ingsville Representative? Event details...
SEQUENCE:0
STATUS:CONFIRMED
SUMMARY:TAMUK TALKS Getting to Know Your Counselor
TRANSP:OPAQUE
END:VEVENT
BEGIN:VEVENT
DTSTART:20260420T123000
DTEND:20260420T150000
DTSTAMP:20260423T050003
UID:6db252d00a022103029975f4307ba92a
DESCRIPTION:Eagle Pass! Want to know more about transferring to a four-yea
 r institution? Event details...
SEQUENCE:0
STATUS:CONFIRMED
SUMMARY:TAMUK TALKS About Transferring
TRANSP:OPAQUE
END:VEVENT
BEGIN:VEVENT
DTSTART:20260410T000000
DTEND:20260411T000000
DTSTAMP:20260423T050003
UID:6d9b478f0a022103029975f4cdcddb59
DESCRIPTION:The Southern Region college rodeo season rolls on Friday\, Apr
 il 10th\, as the Cowboys hit the road to Hillsboro to compete at Hill Coll
 ege. Event details...
SEQUENCE:0
STATUS:CONFIRMED
SUMMARY:Rodeo Competition: Hill College
TRANSP:OPAQUE
END:VEVENT
BEGIN:VEVENT
DTSTART:20260408T113000
DTEND:20260408T130000
DTSTAMP:20260423T050003
UID:6d8438870a022103029975f4377860cc
DESCRIPTION:Ready to race? Join us for Inflatable Dino Races! Event detail
 s...
SEQUENCE:0
STATUS:CONFIRMED
SUMMARY:Dino Races
TRANSP:OPAQUE
END:VEVENT
BEGIN:VEVENT
DTSTART:20260420T150000
DTEND:20260420T160000
DTSTAMP:20260423T050003
UID:6a02b9410a022103029975f4cb44ca6a
DESCRIPTION:Join the Del Rio Cowboy Readers book club for our April book d
 iscussion! Event details...
SEQUENCE:0
STATUS:CONFIRMED
SUMMARY:Del Rio Cowboy Readers Book Club - Before We Forget Kindness
TRANSP:OPAQUE
END:VEVENT
BEGIN:VEVENT
DTSTART:20260406T000000
DTEND:20260430T000000
DTSTAMP:20260423T050003
UID:643362ac0a022103029975f421e4686e
DESCRIPTION:Uvalde - Get Creative with Our Blackout Poetry Contest! \u2028
 Event details...
SEQUENCE:0
STATUS:CONFIRMED
SUMMARY:Library Blackout Poetry Contest
TRANSP:OPAQUE
END:VEVENT
BEGIN:VEVENT
DTSTART:20260407T000000
DTEND:20260407T000000
DTSTAMP:20260423T050003
UID:497316950a022103029975f47fb71716
DESCRIPTION:Future Islanders\, get ready! Event details...
SEQUENCE:0
STATUS:CONFIRMED
SUMMARY:Campus Tour: Texas A&M University-Corpus Christi
TRANSP:OPAQUE
END:VEVENT
BEGIN:VEVENT
DTSTART:20260417T000000
DTEND:20260417T000000
DTSTAMP:20260423T050003
UID:445f430d0a022103029975f4e4c722be
DESCRIPTION:Eagle Pass - Ready to explore your transfer options? Event det
 ails...
SEQUENCE:0
STATUS:CONFIRMED
SUMMARY:Campus Tour: Angelo State University
TRANSP:OPAQUE
END:VEVENT
BEGIN:VEVENT
DTSTART:20260331T113000
DTEND:20260331T130000
DTSTAMP:20260423T050003
UID:40cc47a00a022103029975f44f1aad16
DESCRIPTION:Free burgers and real talk. Event details...
SEQUENCE:0
STATUS:CONFIRMED
SUMMARY:Burgers With the President
TRANSP:OPAQUE
END:VEVENT
BEGIN:VEVENT
DTSTART:20260401T110000
DTEND:20260401T130000
DTSTAMP:20260423T050003
UID:400450990a022103029975f431d44c83
DESCRIPTION:April Fools\u2026 or Is It? Free Popcorn! Event details...
SEQUENCE:0
STATUS:CONFIRMED
SUMMARY:Popcorn: No Tricks!
TRANSP:OPAQUE
END:VEVENT
BEGIN:VEVENT
DTSTART:20260402T150000
DTEND:20260402T160000
DTSTAMP:20260423T050003
UID:32133bd10a022103029975f47aba04f0
DESCRIPTION:Avoid Plagiarism & Write with Confidence. Event details...
SEQUENCE:0
STATUS:CONFIRMED
SUMMARY:Library Workshop: Plagiarism
TRANSP:OPAQUE
END:VEVENT
BEGIN:VEVENT
DTSTART:20260331T110000
DTEND:20260331T130000
DTSTAMP:20260423T050003
UID:2020cb0c0a022103029975f440ff5fbe
DESCRIPTION:Curious about your next college step? We\u2019ve got you cover
 ed! Event details...
SEQUENCE:0
STATUS:CONFIRMED
SUMMARY:TAMUSA Preview Day at SWTX
TRANSP:OPAQUE
END:VEVENT
BEGIN:VEVENT
DTSTART:20260402T113000
DTEND:20260402T130000
DTSTAMP:20260423T050003
UID:3115a8ff0a022103029975f4193cd77b
DESCRIPTION:Join us for some springtime fun!\u00A0Event details...
SEQUENCE:0
STATUS:CONFIRMED
SUMMARY:Student Easter Egg Hunt
TRANSP:OPAQUE
END:VEVENT
BEGIN:VEVENT
DTSTART:20260410T083000
DTEND:20260410T120000
DTSTAMP:20260423T050003
UID:2ba433f40a022103029975f416b5c16d
DESCRIPTION:We\u2019re\u00A0thrilled to welcome our\u00A0newest SWTX stude
 nts! Event details...
SEQUENCE:0
STATUS:CONFIRMED
SUMMARY:New Student Orientation - Uvalde
TRANSP:OPAQUE
END:VEVENT
BEGIN:VEVENT
DTSTART:20260410T083000
DTEND:20260410T120000
DTSTAMP:20260423T050003
UID:2b9e8a160a022103029975f4c6e817af
DESCRIPTION:We\u2019re\u00A0thrilled to welcome our\u00A0newest SWTX stude
 nts! Event details...
SEQUENCE:0
STATUS:CONFIRMED
SUMMARY:New Student Orientation - Hondo
TRANSP:OPAQUE
END:VEVENT
BEGIN:VEVENT
DTSTART:20260410T090000
DTEND:20260410T120000
DTSTAMP:20260423T050003
UID:2ba1bcda0a022103029975f4e2314555
DESCRIPTION:We\u2019re\u00A0thrilled to welcome our\u00A0newest SWTX stude
 nts! Event details...
SEQUENCE:0
STATUS:CONFIRMED
SUMMARY:New Student Orientation - Pearsall
TRANSP:OPAQUE
END:VEVENT
BEGIN:VEVENT
DTSTART:20260327T083000
DTEND:20260327T120000
DTSTAMP:20260423T050003
UID:0239c0230a022103029975f413e13c75
DESCRIPTION:We\u2019re\u00A0thrilled to welcome our\u00A0newest SWTX stude
 nts! Event details...
SEQUENCE:0
STATUS:CONFIRMED
SUMMARY:New Student Orientation - Hondo
TRANSP:OPAQUE
END:VEVENT
BEGIN:VEVENT
DTSTART:20260410T083000
DTEND:20260410T120000
DTSTAMP:20260423T050003
UID:2b9a7c500a022103029975f4278b652c
DESCRIPTION:We\u2019re\u00A0thrilled to welcome our\u00A0newest SWTX stude
 nts! Event details...
SEQUENCE:0
STATUS:CONFIRMED
SUMMARY:New Student Orientation - Eagle Pass
TRANSP:OPAQUE
END:VEVENT
BEGIN:VEVENT
DTSTART:20260410T083000
DTEND:20260410T120000
DTSTAMP:20260423T050003
UID:2b964fe00a022103029975f4291a9515
DESCRIPTION:We\u2019re\u00A0thrilled to welcome our\u00A0newest SWTX stude
 nts! Event details...
SEQUENCE:0
STATUS:CONFIRMED
SUMMARY:New Student Orientation - Crystal City
TRANSP:OPAQUE
END:VEVENT
BEGIN:VEVENT
DTSTART:20260410T083000
DTEND:20260410T120000
DTSTAMP:20260423T050003
UID:2b97d9fe0a022103029975f489c7531d
DESCRIPTION:We\u2019re\u00A0thrilled to welcome our\u00A0newest SWTX stude
 nts! Event details...
SEQUENCE:0
STATUS:CONFIRMED
SUMMARY:New Student Orientation - Del Rio
TRANSP:OPAQUE
END:VEVENT
BEGIN:VEVENT
DTSTART:20260331T180000
DTEND:20260331T200000
DTSTAMP:20260423T050003
UID:2676d4520a022103029975f4fe8c2eb1
DESCRIPTION:The Hunt is On: Find Your College Path! Easter Egg Hunt & Comm
 unity College Fair. Event details...
SEQUENCE:0
STATUS:CONFIRMED
SUMMARY:Easter Egg Hunt & Community College Fair
TRANSP:OPAQUE
END:VEVENT
BEGIN:VEVENT
DTSTART:20260325T113000
DTEND:20260325T130000
DTSTAMP:20260423T050003
UID:259049550a022103029975f490f403dc
DESCRIPTION:Hey SWTX students! Come cool off and treat yourself at our Ice
  Cream Social. Event details...
SEQUENCE:0
STATUS:CONFIRMED
SUMMARY:Ice Cream Social
TRANSP:OPAQUE
END:VEVENT
BEGIN:VEVENT
DTSTART:20260326T000000
DTEND:20260326T000000
DTSTAMP:20260423T050003
UID:21796b060a022103029975f43b27be3a
DESCRIPTION:Show your support and stand in solidarity at the Crystal City 
 Campus by wearing purple on Thursday\, March 26th. Event details...
SEQUENCE:0
STATUS:CONFIRMED
SUMMARY:Purple Day: Epilepsy Awareness at SWTX Crystal City
TRANSP:OPAQUE
END:VEVENT
BEGIN:VEVENT
DTSTART:20260326T180000
DTEND:20260326T210000
DTSTAMP:20260423T050003
UID:207769790a022103029975f4a49f9763
DESCRIPTION:You can watch the SWTX Board of Trustees Meeting live stream o
 n Thursday\, March 26th\, from the Bluebonnet Room on the Uvalde campus. E
 vent details...
SEQUENCE:0
STATUS:CONFIRMED
SUMMARY:Board of Trustees Meeting - March 2026
TRANSP:OPAQUE
END:VEVENT
BEGIN:VEVENT
DTSTART:20260326T150000
DTEND:20260326T160000
DTSTAMP:20260423T050003
UID:205c8f440a022103029975f44b34d43f
DESCRIPTION:Learn what AI can help with - and where it crosses the line. E
 vent details...
SEQUENCE:0
STATUS:CONFIRMED
SUMMARY:Library Workshop: AI Do's and Don'ts
TRANSP:OPAQUE
END:VEVENT
BEGIN:VEVENT
DTSTART:20260403T000000
DTEND:20260404T000000
DTSTAMP:20260423T050003
UID:202420290a022103029975f4e0c86304
DESCRIPTION:The Southern Region college rodeo season rolls on Friday\, Apr
 il 3rd\, as the Cowboys hit the road to Athens to compete at Trinity Valle
 y Community College. Event details...
SEQUENCE:0
STATUS:CONFIRMED
SUMMARY:Rodeo Competition: Trinity Valley Community College
TRANSP:OPAQUE
END:VEVENT
BEGIN:VEVENT
DTSTART:20260324T110000
DTEND:20260324T130000
DTSTAMP:20260423T050003
UID:1ca254d80a022103029975f40859f344
DESCRIPTION:Have questions\, ideas\, or feedback about our campus? Event d
 etails...
SEQUENCE:0
STATUS:CONFIRMED
SUMMARY:Chat with the President
TRANSP:OPAQUE
END:VEVENT
BEGIN:VEVENT
DTSTART:20260318T180000
DTEND:20260318T190000
DTSTAMP:20260423T050003
UID:029489b40a022103029975f482758043
DESCRIPTION:Explore how planting supports mental health by promoting mindf
 ulness\, lowering stress levels\, and creating a sense of calm. Event deta
 ils...
SEQUENCE:0
STATUS:CONFIRMED
SUMMARY:Stress Less\, Grow More Planting Session
TRANSP:OPAQUE
END:VEVENT
BEGIN:VEVENT
DTSTART:20260320T083000
DTEND:20260320T120000
DTSTAMP:20260423T050003
UID:024205e00a022103029975f4a783bcfd
DESCRIPTION:We\u2019re\u00A0thrilled to welcome our\u00A0newest SWTX stude
 nts! Event details...
SEQUENCE:0
STATUS:CONFIRMED
SUMMARY:New Student Orientation - Uvalde
TRANSP:OPAQUE
END:VEVENT
BEGIN:VEVENT
DTSTART:20260320T090000
DTEND:20260320T120000
DTSTAMP:20260423T050003
UID:023fefe30a022103029975f459d88b22
DESCRIPTION:We\u2019re\u00A0thrilled to welcome our\u00A0newest SWTX stude
 nts! Event details...
SEQUENCE:0
STATUS:CONFIRMED
SUMMARY:New Student Orientation - Pearsall
TRANSP:OPAQUE
END:VEVENT
BEGIN:VEVENT
DTSTART:20260319T150000
DTEND:20260319T160000
DTSTAMP:20260423T050003
UID:018b2cc80a022103029975f4eea645a6
DESCRIPTION:Learn what AI can help with - and where it crosses the line. E
 vent details...
SEQUENCE:0
STATUS:CONFIRMED
SUMMARY:Library Workshop: AI Do's and Don'ts
TRANSP:OPAQUE
END:VEVENT
BEGIN:VEVENT
DTSTART:20260320T083000
DTEND:20260320T120000
DTSTAMP:20260423T050003
UID:01bec3140a022103029975f497a9f2a6
DESCRIPTION:We\u2019re\u00A0thrilled to welcome our\u00A0newest SWTX stude
 nts! Event details...
SEQUENCE:0
STATUS:CONFIRMED
SUMMARY:New Student Orientation - Eagle Pass
TRANSP:OPAQUE
END:VEVENT
BEGIN:VEVENT
DTSTART:20260320T083000
DTEND:20260320T120000
DTSTAMP:20260423T050003
UID:01bbc8840a022103029975f432e21eb3
DESCRIPTION:We\u2019re\u00A0thrilled to welcome our\u00A0newest SWTX stude
 nts! Event details...
SEQUENCE:0
STATUS:CONFIRMED
SUMMARY:New Student Orientation - Del Rio
TRANSP:OPAQUE
END:VEVENT
BEGIN:VEVENT
DTSTART:20260320T083000
DTEND:20260320T120000
DTSTAMP:20260423T050003
UID:01b5ef3f0a022103029975f46ba32f65
DESCRIPTION:We\u2019re\u00A0thrilled to welcome our\u00A0newest SWTX stude
 nts! Event details...
SEQUENCE:0
STATUS:CONFIRMED
SUMMARY:New Student Orientation - Crystal City
TRANSP:OPAQUE
END:VEVENT
BEGIN:VEVENT
DTSTART:20260316T113000
DTEND:20260318T120000
DTSTAMP:20260423T050003
UID:f645fc460a022103029975f4f4b189b8
DESCRIPTION:Ready to level up your semester? Event details...
SEQUENCE:0
STATUS:CONFIRMED
SUMMARY:March Madness Workshop Series
TRANSP:OPAQUE
END:VEVENT
BEGIN:VEVENT
DTSTART:20260302T110000
DTEND:20260305T150000
DTSTAMP:20260423T050003
UID:b09ef0dd0a022103029975f4dbfcab22
DESCRIPTION:Fuel for Finals & Midterms! Event details...
SEQUENCE:0
STATUS:CONFIRMED
SUMMARY:Fuel for Finals & Midterms! Need a Study Break?
TRANSP:OPAQUE
END:VEVENT
BEGIN:VEVENT
DTSTART:20260303T113000
DTEND:20260303T130000
DTSTAMP:20260423T050003
UID:b03c93b60a022103029975f48a6b1cee
DESCRIPTION:Spring Break Send-Off at SWTX Del Rio! Event details...
SEQUENCE:0
STATUS:CONFIRMED
SUMMARY:Spring Break Send-off
TRANSP:OPAQUE
END:VEVENT
BEGIN:VEVENT
DTSTART:20260320T000000
DTEND:20260321T000000
DTSTAMP:20260423T050003
UID:a0a8fe380a022103029975f40ce80563
DESCRIPTION:The Southern Region college rodeo season rolls on Friday\, Mar
 ch 20th\, as the Cowboys hit the road to Commerce to compete at East Texas
  A&M University. Event details...
SEQUENCE:0
STATUS:CONFIRMED
SUMMARY:Rodeo Competition: East Texas A&M University
TRANSP:OPAQUE
END:VEVENT
BEGIN:VEVENT
DTSTART:20260319T000000
DTEND:20260319T000000
DTSTAMP:20260423T050003
UID:9c0dc6610a022103029975f43a7338d9
DESCRIPTION:Future Roadrunners\, get ready to explore UTSA! Event details.
 ..
SEQUENCE:0
STATUS:CONFIRMED
SUMMARY:Campus Tour: The University of Texas at San Antonio
TRANSP:OPAQUE
END:VEVENT
BEGIN:VEVENT
DTSTART:20260304T110000
DTEND:20260304T130000
DTSTAMP:20260423T050003
UID:9200fa080a022103029975f491b0b808
DESCRIPTION:Sleep plays a vital role in your well-being and academic succe
 ss. Event details...
SEQUENCE:0
STATUS:CONFIRMED
SUMMARY:Healthy Sleep Awareness
TRANSP:OPAQUE
END:VEVENT
BEGIN:VEVENT
DTSTART:20260305T000000
DTEND:20260305T000000
DTSTAMP:20260423T050003
UID:96e433a40a022103029975f4b798300f
DESCRIPTION:Put your grilling or baking skills to the test at the Grillin\
 u2019 with the President\u00A0BBQ\u00A0Cook-Off and Dessert Contest on\u00
 A0March 5\, 2026! Event details...
SEQUENCE:0
STATUS:CONFIRMED
SUMMARY:Grillin' with the President Student BBQ Cook-Off
TRANSP:OPAQUE
END:VEVENT
BEGIN:VEVENT
DTSTART:20260304T110000
DTEND:20260304T120000
DTSTAMP:20260423T050003
UID:77ec71dd0a022103029975f4cbb0ce28
DESCRIPTION:Game on! Who\u2019s taking home the bragging rights? Event det
 ails...\r\n\r\n
SEQUENCE:0
STATUS:CONFIRMED
SUMMARY:Students vs Faculty and Staff Softball Game
TRANSP:OPAQUE
END:VEVENT
BEGIN:VEVENT
DTSTART:20260128T170000
DTEND:20260429T180000
DTSTAMP:20260423T050003
UID:fc95b36d0a022103029975f4ea738988
DESCRIPTION:Looking for faith\, fellowship\, and community on campus? Join
  the SWTX Catholic Club for weekly meetings this spring. Event details...
SEQUENCE:0
STATUS:CONFIRMED
SUMMARY:Catholic Club Weekly Meeting
TRANSP:OPAQUE
END:VEVENT
BEGIN:VEVENT
DTSTART:20260122T110000
DTEND:20260430T123000
DTSTAMP:20260423T050003
UID:008346960a022103029975f40cdde747
DESCRIPTION:Are you a gamer? If so\, the Gaming Club is the place for you!
  Event details...
SEQUENCE:0
STATUS:CONFIRMED
SUMMARY:Eagle Pass Gaming Club
TRANSP:OPAQUE
END:VEVENT
BEGIN:VEVENT
DTSTART:20260120T153000
DTEND:20260428T163000
DTSTAMP:20260423T050003
UID:eca2245a0a022103029975f40f0ac8c9
DESCRIPTION:SWTX Phi Theta Kappa members! Join us for our meeting in Ander
 son 3 at 3:30 pm on the Uvalde Campus. Event details...
SEQUENCE:0
STATUS:CONFIRMED
SUMMARY:Phi Theta Kappa Weekly Meeting
TRANSP:OPAQUE
END:VEVENT
BEGIN:VEVENT
DTSTART:20260126T160000
DTEND:20260430T170000
DTSTAMP:20260423T050003
UID:ec90d80a0a022103029975f4c330822c
DESCRIPTION:Students\, join our SWTX Run Club Meetings on Monday\, Wednesd
 ay\, and Thursday at 4:00 pm! Event details...
SEQUENCE:0
STATUS:CONFIRMED
SUMMARY:SWTX Run Club
TRANSP:OPAQUE
END:VEVENT
END:VCALENDAR
